BEGIN:VCALENDAR
VERSION:2.0
PRODID:icalendar-ruby
CALSCALE:GREGORIAN
METHOD:PUBLISH
BEGIN:VTIMEZONE
TZID:Australia/Perth
BEGIN:STANDARD
DTSTART:20090329T020000
TZOFFSETFROM:+0900
TZOFFSETTO:+0800
TZNAME:AWST
END:STANDARD
END:VTIMEZONE
BEGIN:VEVENT
DTSTAMP:20260421T075335Z
UID:inspection_3000039
DTSTART;TZID=Australia/Perth:20260419T130000
DTEND;TZID=Australia/Perth:20260419T134500
CLASS:PUBLIC
CREATED:20260416T085346
DESCRIPTION: 
LAST-MODIFIED:20260416T085346
LOCATION:9 / 221 Albert Street\, OSBORNE PARK WA 6017\, Australia
SUMMARY:9 / 221 Albert Street\,  Inspection
URL;VALUE=URI:https://www.gestrealestate.com.au/
END:VEVENT
END:VCALENDAR
